BEGIN:VCALENDAR
VERSION:2.0
PRODID:-//Schule Nimmersatt - ECPv6.15.20//NONSGML v1.0//EN
CALSCALE:GREGORIAN
METHOD:PUBLISH
X-WR-CALNAME:Schule Nimmersatt
X-ORIGINAL-URL:https://schulenimmersatt.de
X-WR-CALDESC:Veranstaltungen für Schule Nimmersatt
REFRESH-INTERVAL;VALUE=DURATION:PT1H
X-Robots-Tag:noindex
X-PUBLISHED-TTL:PT1H
BEGIN:VTIMEZONE
TZID:Europe/Berlin
BEGIN:DAYLIGHT
TZOFFSETFROM:+0100
TZOFFSETTO:+0200
TZNAME:CEST
DTSTART:20250330T010000
END:DAYLIGHT
BEGIN:STANDARD
TZOFFSETFROM:+0200
TZOFFSETTO:+0100
TZNAME:CET
DTSTART:20251026T010000
END:STANDARD
BEGIN:DAYLIGHT
TZOFFSETFROM:+0100
TZOFFSETTO:+0200
TZNAME:CEST
DTSTART:20260329T010000
END:DAYLIGHT
BEGIN:STANDARD
TZOFFSETFROM:+0200
TZOFFSETTO:+0100
TZNAME:CET
DTSTART:20261025T010000
END:STANDARD
BEGIN:DAYLIGHT
TZOFFSETFROM:+0100
TZOFFSETTO:+0200
TZNAME:CEST
DTSTART:20270328T010000
END:DAYLIGHT
BEGIN:STANDARD
TZOFFSETFROM:+0200
TZOFFSETTO:+0100
TZNAME:CET
DTSTART:20271031T010000
END:STANDARD
END:VTIMEZONE
BEGIN:VEVENT
DTSTART;TZID=Europe/Berlin:20260426T163000
DTEND;TZID=Europe/Berlin:20260502T140000
DTSTAMP:20260420T121643
CREATED:20251002T084121Z
LAST-MODIFIED:20251002T084121Z
UID:1487-1777221000-1777730400@schulenimmersatt.de
SUMMARY:Waldgartenwochen am Ecolieu Langenberg
DESCRIPTION:Waldgärten für die Grenzregion \nEine Woche für Dich in der Natur des Waldgartens! \nLerne unseren Waldgarten intensiv kennen und erhalte Informationen zum Aufbau\, zur Gestaltung und zur Pflege. Mit Beobachten\, allein an einem Platz im Wald\, ahmen wir Ökosysteme nach\, kommen in Verbindung mit uns und der Natur des Waldgartens. Mit Körperübungen und -mediationen stimmen wir uns ein und erweitern unsere Wahrnehmungsfähigkeit. Gemeinsam setzen wir ein von Dir ausgewähltes Projekt um und teilen unsere Erfahrungen in der Gruppe. Durch Erkunden der Umgebung ordnen wir den Waldgarten am Langenberg in den größeren landschaftlichen Kontext ein und feiern gemeinsam – in der Natur\, mit der Natur. \nWas ist ein Waldgarten?\nEin Waldgarten ist die natürlichste Art zu gärtnern\, denn Wald entwickelt sich bei uns überall dort\, wo wir nicht indie Natur eingreifen. Im Waldgarten arbeiten wir mit\ndieser natürlichen Tendenz statt dagegen. Anders als in einem herkömmlichen Garten mit\ngetrennten Bereichen für Blumen\, Gemüse\, Sträucher und Bäume\, teilen sich im Waldgarten die Pflanzen auf den verschiedenen Etagen einen Standort. So entsteht auf\nkleiner Fläche große Vielfalt und ein sich selbst erhaltendes Ökosystem. \nEin Waldgarten ist vieles – lokale Nahrungsquelle\, Bildungs- und Begegnungsraum\, Landwirtschaftssystem und Nutzgarten. Hier lernst du\, mit der Natur zu gärtnern\nund erschaffst eine artenreiche\, fruchtbare und gesunde Welt. \nInfo und Anmeldung\nAnreise\nJeweils am Sonntag ab 16:30 Uhr\, gemeinsames Abendessen und Kennenlernen ab 18:30\nAbreise\nAm Samstag nach dem Mittagessen\, ca. 14 Uhr 7 Stunden; geführtes Programm pro Tag\nKosten:\nStatt 1095 Euro nur 595 Euro inklusive Verpflegung! Dank der Förderung durch die Baden-Württemberg Stiftung und durch Nouveaux Horizons im Rahmen des Programms “Waldgärten für die Grenzregion” können wir die Waldgartenwoche inklusive biologischer Vollverpflegung zum absoluten Sonderpreis von 595 Euro anbieten!\nÜbernachtung\nIm Schlafsaal oder im eigenen Zelt inklusive. Nicht Dein Ding? Kein Problem. Du kannst  auch auf eigene Kosten selbst eine Unterkunft in der Umgebung suchen.\n\nAnmeldung und weitere Informationen: www.permakultur.de\noder per Mail: waldgarteninfo@posteo.de \nFlyer mit genaueren Informationen: Waldgartenwochen am Ecolieu \n  \nSichere Dir jetzt Deinen Platz!
URL:https://schulenimmersatt.de/events/waldgartenwochen-am-ecolieu-langenberg-2/
ATTACH;FMTTYPE=image/png:https://schulenimmersatt.de/wp-content/uploads/2025/10/Bildschirmfoto-2025-10-02-um-10.18.14.png
END:VEVENT
END:VCALENDAR